BEGIN:VCALENDAR
VERSION:2.0
PRODID:-//Coburn Free Library - ECPv6.15.20//NONSGML v1.0//EN
CALSCALE:GREGORIAN
METHOD:PUBLISH
X-ORIGINAL-URL:https://coburnfreelibrary.org
X-WR-CALDESC:Events for Coburn Free Library
REFRESH-INTERVAL;VALUE=DURATION:PT1H
X-Robots-Tag:noindex
X-PUBLISHED-TTL:PT1H
BEGIN:VTIMEZONE
TZID:America/New_York
BEGIN:DAYLIGHT
TZOFFSETFROM:-0500
TZOFFSETTO:-0400
TZNAME:EDT
DTSTART:20240310T070000
END:DAYLIGHT
BEGIN:STANDARD
TZOFFSETFROM:-0400
TZOFFSETTO:-0500
TZNAME:EST
DTSTART:20241103T060000
END:STANDARD
BEGIN:DAYLIGHT
TZOFFSETFROM:-0500
TZOFFSETTO:-0400
TZNAME:EDT
DTSTART:20250309T070000
END:DAYLIGHT
BEGIN:STANDARD
TZOFFSETFROM:-0400
TZOFFSETTO:-0500
TZNAME:EST
DTSTART:20251102T060000
END:STANDARD
BEGIN:DAYLIGHT
TZOFFSETFROM:-0500
TZOFFSETTO:-0400
TZNAME:EDT
DTSTART:20260308T070000
END:DAYLIGHT
BEGIN:STANDARD
TZOFFSETFROM:-0400
TZOFFSETTO:-0500
TZNAME:EST
DTSTART:20261101T060000
END:STANDARD
END:VTIMEZONE
BEGIN:VEVENT
DTSTART;VALUE=DATE:20250217
DTEND;VALUE=DATE:20250218
DTSTAMP:20260419T092128
CREATED:20250130T221831Z
LAST-MODIFIED:20250130T221831Z
UID:10002682-1739750400-1739836799@coburnfreelibrary.org
SUMMARY:Closed
DESCRIPTION:the Coburn Free Library is closed February 17th\, 2025 for Presidents Day. We reopen for regular hours on Tuesday February 18th.
URL:https://coburnfreelibrary.org/event/closed-3/
END:VEVENT
BEGIN:VEVENT
DTSTART;TZID=America/New_York:20250218T180000
DTEND;TZID=America/New_York:20250218T185000
DTSTAMP:20260419T092128
CREATED:20241007T162025Z
LAST-MODIFIED:20251230T224302Z
UID:10002613-1739901600-1739904600@coburnfreelibrary.org
SUMMARY:Lego Club
DESCRIPTION:On the 3rd Tuesday of each month at 5:30pm\, older and more advanced Lego builders will meet to build.  This group requires critical thinking skills and longer attention spans.
URL:https://coburnfreelibrary.org/event/lego-club-2/2025-02-18/
END:VEVENT
BEGIN:VEVENT
DTSTART;TZID=America/New_York:20250219T101500
DTEND;TZID=America/New_York:20250219T110000
DTSTAMP:20260419T092128
CREATED:20241007T162658Z
LAST-MODIFIED:20251230T223557Z
UID:10002421-1739960100-1739962800@coburnfreelibrary.org
SUMMARY:Story Hour
DESCRIPTION:On Wednesdays at 10:15 AM we share our favorite picture books with children ages birth to 5 and their parents or caregivers. Don’t be surprised to learn a few finger plays and active nursery rhymes.  Our story times are built around books and engaging readings but also include movement\, song\, literacy skills\, and play.
URL:https://coburnfreelibrary.org/event/story-hour/2025-02-19/
ATTACH;FMTTYPE=image/jpeg:https://coburnfreelibrary.org/wp-content/uploads/2023/05/Every-Wednesday-@1015-am.jpg
END:VEVENT
BEGIN:VEVENT
DTSTART;TZID=America/New_York:20250220T100000
DTEND;TZID=America/New_York:20250220T110000
DTSTAMP:20260419T092128
CREATED:20241007T161323Z
LAST-MODIFIED:20260408T162226Z
UID:10002781-1740045600-1740049200@coburnfreelibrary.org
SUMMARY:Board of Trustees Meeting- Open Meeting
DESCRIPTION:The Board of Trustees of the Coburn Free Library meets upstairs in the Eva Thomas room.  Please enter through the rear entrance of the library and take the elevator to the 2nd floor.   Regularly scheduled meetings are on the third Thursday of each month at 10am.  Please register if you plan to attend so we have enough handouts.
URL:https://coburnfreelibrary.org/event/board-of-trustees-meeting-open-meeting/2025-02-20/
END:VEVENT
BEGIN:VEVENT
DTSTART;TZID=America/New_York:20250222T103000
DTEND;TZID=America/New_York:20250222T120000
DTSTAMP:20260419T092128
CREATED:20241007T164141Z
LAST-MODIFIED:20250609T140544Z
UID:10002677-1740220200-1740225600@coburnfreelibrary.org
SUMMARY:Tioga Ukulele Group Jam Session
DESCRIPTION:Ukulele Players! Come join us for an adult Ukulele Jam Session at the Coburn Free Library! \nJust bring your ukulele\, music will be provided. All levels of players are welcome\, beginner to intermediate. \nCall\, text\, or email for more info: \n(607) 743-9803 \n(607) 321-8815 \nTiogaUkuleleGroup@yahoo.com
URL:https://coburnfreelibrary.org/event/tioga-ukulele-club-jam-session/2025-02-22/
END:VEVENT
END:VCALENDAR