BEGIN:VCALENDAR
VERSION:2.0
PRODID:-//Coburn Free Library - ECPv6.15.20//NONSGML v1.0//EN
CALSCALE:GREGORIAN
METHOD:PUBLISH
X-WR-CALNAME:Coburn Free Library
X-ORIGINAL-URL:https://coburnfreelibrary.org
X-WR-CALDESC:Events for Coburn Free Library
REFRESH-INTERVAL;VALUE=DURATION:PT1H
X-Robots-Tag:noindex
X-PUBLISHED-TTL:PT1H
BEGIN:VTIMEZONE
TZID:America/New_York
BEGIN:DAYLIGHT
TZOFFSETFROM:-0500
TZOFFSETTO:-0400
TZNAME:EDT
DTSTART:20240310T070000
END:DAYLIGHT
BEGIN:STANDARD
TZOFFSETFROM:-0400
TZOFFSETTO:-0500
TZNAME:EST
DTSTART:20241103T060000
END:STANDARD
BEGIN:DAYLIGHT
TZOFFSETFROM:-0500
TZOFFSETTO:-0400
TZNAME:EDT
DTSTART:20250309T070000
END:DAYLIGHT
BEGIN:STANDARD
TZOFFSETFROM:-0400
TZOFFSETTO:-0500
TZNAME:EST
DTSTART:20251102T060000
END:STANDARD
BEGIN:DAYLIGHT
TZOFFSETFROM:-0500
TZOFFSETTO:-0400
TZNAME:EDT
DTSTART:20260308T070000
END:DAYLIGHT
BEGIN:STANDARD
TZOFFSETFROM:-0400
TZOFFSETTO:-0500
TZNAME:EST
DTSTART:20261101T060000
END:STANDARD
END:VTIMEZONE
BEGIN:VEVENT
DTSTART;TZID=America/New_York:20250120T080000
DTEND;TZID=America/New_York:20250120T170000
DTSTAMP:20260419T130634
CREATED:20241230T195150Z
LAST-MODIFIED:20241230T200914Z
UID:10002490-1737360000-1737392400@coburnfreelibrary.org
SUMMARY:Closed
DESCRIPTION:The library is closed Monday January 20th 2025 for Martin Luther King Jr. Day. We will reopen Tuesday January 21st 2025 from 2pm to 7pm.
URL:https://coburnfreelibrary.org/event/closed-2/
END:VEVENT
BEGIN:VEVENT
DTSTART;TZID=America/New_York:20250121T180000
DTEND;TZID=America/New_York:20250121T185000
DTSTAMP:20260419T130634
CREATED:20241007T162025Z
LAST-MODIFIED:20251230T224302Z
UID:10002612-1737482400-1737485400@coburnfreelibrary.org
SUMMARY:Lego Club
DESCRIPTION:On the 3rd Tuesday of each month at 5:30pm\, older and more advanced Lego builders will meet to build.  This group requires critical thinking skills and longer attention spans.
URL:https://coburnfreelibrary.org/event/lego-club-2/2025-01-21/
END:VEVENT
BEGIN:VEVENT
DTSTART;TZID=America/New_York:20250122T101500
DTEND;TZID=America/New_York:20250122T110000
DTSTAMP:20260419T130634
CREATED:20241007T162658Z
LAST-MODIFIED:20251230T223557Z
UID:10002417-1737540900-1737543600@coburnfreelibrary.org
SUMMARY:Story Hour
DESCRIPTION:On Wednesdays at 10:15 AM we share our favorite picture books with children ages birth to 5 and their parents or caregivers. Don’t be surprised to learn a few finger plays and active nursery rhymes.  Our story times are built around books and engaging readings but also include movement\, song\, literacy skills\, and play.
URL:https://coburnfreelibrary.org/event/story-hour/2025-01-22/
ATTACH;FMTTYPE=image/jpeg:https://coburnfreelibrary.org/wp-content/uploads/2023/05/Every-Wednesday-@1015-am.jpg
END:VEVENT
BEGIN:VEVENT
DTSTART;TZID=America/New_York:20250123T180000
DTEND;TZID=America/New_York:20250123T185000
DTSTAMP:20260419T130634
CREATED:20241007T161919Z
LAST-MODIFIED:20251126T163041Z
UID:10002636-1737655200-1737658200@coburnfreelibrary.org
SUMMARY:Story Craft Hour
DESCRIPTION:Check out our program calendar to see the author of the month! \n\nRegistration is required\, as supplies are limited. On the 4th Thursday of every month at 6:00pm join us to read a story and do a craft. Each month we will feature some of your favorite\, and our favorite children’s authors. Each session will consist of story reading followed by a craft inspired by the author and their stories! This program is for children aged 5-12 but we can adjust the crafts for younger kids if needed!
URL:https://coburnfreelibrary.org/event/story-craft-hour/2025-01-23/
END:VEVENT
END:VCALENDAR