BEGIN:VCALENDAR
VERSION:2.0
PRODID:-//Coburn Free Library - ECPv6.15.20//NONSGML v1.0//EN
CALSCALE:GREGORIAN
METHOD:PUBLISH
X-WR-CALNAME:Coburn Free Library
X-ORIGINAL-URL:https://coburnfreelibrary.org
X-WR-CALDESC:Events for Coburn Free Library
REFRESH-INTERVAL;VALUE=DURATION:PT1H
X-Robots-Tag:noindex
X-PUBLISHED-TTL:PT1H
BEGIN:VTIMEZONE
TZID:America/New_York
BEGIN:DAYLIGHT
TZOFFSETFROM:-0500
TZOFFSETTO:-0400
TZNAME:EDT
DTSTART:20230312T070000
END:DAYLIGHT
BEGIN:STANDARD
TZOFFSETFROM:-0400
TZOFFSETTO:-0500
TZNAME:EST
DTSTART:20231105T060000
END:STANDARD
BEGIN:DAYLIGHT
TZOFFSETFROM:-0500
TZOFFSETTO:-0400
TZNAME:EDT
DTSTART:20240310T070000
END:DAYLIGHT
BEGIN:STANDARD
TZOFFSETFROM:-0400
TZOFFSETTO:-0500
TZNAME:EST
DTSTART:20241103T060000
END:STANDARD
BEGIN:DAYLIGHT
TZOFFSETFROM:-0500
TZOFFSETTO:-0400
TZNAME:EDT
DTSTART:20250309T070000
END:DAYLIGHT
BEGIN:STANDARD
TZOFFSETFROM:-0400
TZOFFSETTO:-0500
TZNAME:EST
DTSTART:20251102T060000
END:STANDARD
END:VTIMEZONE
BEGIN:VEVENT
DTSTART;TZID=America/New_York:20241118T100000
DTEND;TZID=America/New_York:20241118T110000
DTSTAMP:20260423T131356
CREATED:20241007T162428Z
LAST-MODIFIED:20260129T203436Z
UID:10002395-1731924000-1731927600@coburnfreelibrary.org
SUMMARY:Babies at Play
DESCRIPTION:Babies at Play is a playgroup where kids 0-4 have a space to play and socialize with their peers. Parents and guardians can also swap parenting tips or simply chat\, while the kids have fun and play. We provide the toys and the fun\, so all you need to do is come!
URL:https://coburnfreelibrary.org/event/babies-at-play/2024-11-18/
END:VEVENT
BEGIN:VEVENT
DTSTART;TZID=America/New_York:20241119T141500
DTEND;TZID=America/New_York:20241119T151500
DTSTAMP:20260423T131356
CREATED:20240109T200122Z
LAST-MODIFIED:20240503T153614Z
UID:10001458-1732025700-1732029300@coburnfreelibrary.org
SUMMARY:All Abilities Community Games
DESCRIPTION:All ages and all abilities are welcome to join us on Tuesdays from 2:15 to 3:15 for an hour of fun playing games. Our Hilda R. Grimes room has lots of card games\, board games\, and more!
URL:https://coburnfreelibrary.org/event/all-abilities-community-games/2024-11-19/
END:VEVENT
BEGIN:VEVENT
DTSTART;TZID=America/New_York:20241119T180000
DTEND;TZID=America/New_York:20241119T185000
DTSTAMP:20260423T131356
CREATED:20241007T162025Z
LAST-MODIFIED:20251230T224302Z
UID:10002611-1732039200-1732042200@coburnfreelibrary.org
SUMMARY:Lego Club
DESCRIPTION:On the 3rd Tuesday of each month at 5:30pm\, older and more advanced Lego builders will meet to build.  This group requires critical thinking skills and longer attention spans.
URL:https://coburnfreelibrary.org/event/lego-club-2/2024-11-19/
END:VEVENT
BEGIN:VEVENT
DTSTART;TZID=America/New_York:20241120T101500
DTEND;TZID=America/New_York:20241120T110000
DTSTAMP:20260423T131356
CREATED:20241007T162658Z
LAST-MODIFIED:20251230T223557Z
UID:10002408-1732097700-1732100400@coburnfreelibrary.org
SUMMARY:Story Hour
DESCRIPTION:On Wednesdays at 10:15 AM we share our favorite picture books with children ages birth to 5 and their parents or caregivers. Don’t be surprised to learn a few finger plays and active nursery rhymes.  Our story times are built around books and engaging readings but also include movement\, song\, literacy skills\, and play.
URL:https://coburnfreelibrary.org/event/story-hour/2024-11-20/
ATTACH;FMTTYPE=image/jpeg:https://coburnfreelibrary.org/wp-content/uploads/2023/05/Every-Wednesday-@1015-am.jpg
END:VEVENT
BEGIN:VEVENT
DTSTART;TZID=America/New_York:20241121T100000
DTEND;TZID=America/New_York:20241121T110000
DTSTAMP:20260423T131356
CREATED:20241007T161323Z
LAST-MODIFIED:20260408T162226Z
UID:10002778-1732183200-1732186800@coburnfreelibrary.org
SUMMARY:Board of Trustees Meeting- Open Meeting
DESCRIPTION:The Board of Trustees of the Coburn Free Library meets upstairs in the Eva Thomas room.  Please enter through the rear entrance of the library and take the elevator to the 2nd floor.   Regularly scheduled meetings are on the third Thursday of each month at 10am.  Please register if you plan to attend so we have enough handouts.
URL:https://coburnfreelibrary.org/event/board-of-trustees-meeting-open-meeting/2024-11-21/
END:VEVENT
END:VCALENDAR