BEGIN:VCALENDAR
VERSION:2.0
PRODID:-//Coburn Free Library - ECPv6.15.20//NONSGML v1.0//EN
CALSCALE:GREGORIAN
METHOD:PUBLISH
X-ORIGINAL-URL:https://coburnfreelibrary.org
X-WR-CALDESC:Events for Coburn Free Library
REFRESH-INTERVAL;VALUE=DURATION:PT1H
X-Robots-Tag:noindex
X-PUBLISHED-TTL:PT1H
BEGIN:VTIMEZONE
TZID:America/New_York
BEGIN:DAYLIGHT
TZOFFSETFROM:-0500
TZOFFSETTO:-0400
TZNAME:EDT
DTSTART:20240310T070000
END:DAYLIGHT
BEGIN:STANDARD
TZOFFSETFROM:-0400
TZOFFSETTO:-0500
TZNAME:EST
DTSTART:20241103T060000
END:STANDARD
BEGIN:DAYLIGHT
TZOFFSETFROM:-0500
TZOFFSETTO:-0400
TZNAME:EDT
DTSTART:20250309T070000
END:DAYLIGHT
BEGIN:STANDARD
TZOFFSETFROM:-0400
TZOFFSETTO:-0500
TZNAME:EST
DTSTART:20251102T060000
END:STANDARD
BEGIN:DAYLIGHT
TZOFFSETFROM:-0500
TZOFFSETTO:-0400
TZNAME:EDT
DTSTART:20260308T070000
END:DAYLIGHT
BEGIN:STANDARD
TZOFFSETFROM:-0400
TZOFFSETTO:-0500
TZNAME:EST
DTSTART:20261101T060000
END:STANDARD
END:VTIMEZONE
BEGIN:VEVENT
DTSTART;TZID=America/New_York:20250822T100000
DTEND;TZID=America/New_York:20250822T110000
DTSTAMP:20260422T082914
CREATED:20250624T194305Z
LAST-MODIFIED:20250624T194305Z
UID:10002762-1755856800-1755860400@coburnfreelibrary.org
SUMMARY:Story Craft Hour Don Freeman Watercolor Teddy Bears
DESCRIPTION:Registration is required\, as supplies are limited. Join us Friday August 22nd at 10:00am to read a few stories and paint a watercolor teddy bear inspired by the work of Dan Freeman! This program is for children aged 5-12 but we can adjust the crafts for younger kids if needed!
URL:https://coburnfreelibrary.org/event/story-craft-hour-don-freeman-watercolor-teddy-bears/
CATEGORIES:Summer Reading
ATTACH;FMTTYPE=image/jpeg:https://coburnfreelibrary.org/wp-content/uploads/2025/06/SRP-25-Banners-2.jpg
END:VEVENT
END:VCALENDAR