BEGIN:VCALENDAR
VERSION:2.0
PRODID:-//Coburn Free Library - ECPv6.15.20//NONSGML v1.0//EN
CALSCALE:GREGORIAN
METHOD:PUBLISH
X-ORIGINAL-URL:https://coburnfreelibrary.org
X-WR-CALDESC:Events for Coburn Free Library
REFRESH-INTERVAL;VALUE=DURATION:PT1H
X-Robots-Tag:noindex
X-PUBLISHED-TTL:PT1H
BEGIN:VTIMEZONE
TZID:America/New_York
BEGIN:DAYLIGHT
TZOFFSETFROM:-0500
TZOFFSETTO:-0400
TZNAME:EDT
DTSTART:20240310T070000
END:DAYLIGHT
BEGIN:STANDARD
TZOFFSETFROM:-0400
TZOFFSETTO:-0500
TZNAME:EST
DTSTART:20241103T060000
END:STANDARD
BEGIN:DAYLIGHT
TZOFFSETFROM:-0500
TZOFFSETTO:-0400
TZNAME:EDT
DTSTART:20250309T070000
END:DAYLIGHT
BEGIN:STANDARD
TZOFFSETFROM:-0400
TZOFFSETTO:-0500
TZNAME:EST
DTSTART:20251102T060000
END:STANDARD
BEGIN:DAYLIGHT
TZOFFSETFROM:-0500
TZOFFSETTO:-0400
TZNAME:EDT
DTSTART:20260308T070000
END:DAYLIGHT
BEGIN:STANDARD
TZOFFSETFROM:-0400
TZOFFSETTO:-0500
TZNAME:EST
DTSTART:20261101T060000
END:STANDARD
END:VTIMEZONE
BEGIN:VEVENT
DTSTART;TZID=America/New_York:20250722T173000
DTEND;TZID=America/New_York:20250722T183000
DTSTAMP:20260423T223627
CREATED:20250624T190841Z
LAST-MODIFIED:20250624T190841Z
UID:10002750-1753205400-1753209000@coburnfreelibrary.org
SUMMARY:Stories with Music: Orchestra of the Southern Finger Lakes Brass Quintet
DESCRIPTION:Tuesday July 22nd\, 2025 at 5:30pm \nThe OSFL Brass Quintet features Lindsey and Larry Burroughs on trumpet\, horn player Claire McKenney\, principal trombonist Duane Smith and Keith Alcius on tuba. The brass quintet is excited to present Anthony Plog’s Animal Ditties\, featuring the silly nonsense poems of Ogden Nash! A few examples of the “Ditties” include: “The Duck”; “The Praying Mantis”; “The Cow”; and others. Accompanied by other lively arrangements\, this program will make for a fun time for the whole family!
URL:https://coburnfreelibrary.org/event/stories-with-music-orchestra-of-the-southern-finger-lakes-brass-quintet/
CATEGORIES:Summer Reading
ATTACH;FMTTYPE=image/jpeg:https://coburnfreelibrary.org/wp-content/uploads/2025/06/SRP-25-Banners-2.jpg
END:VEVENT
END:VCALENDAR