BEGIN:VCALENDAR
VERSION:2.0
PRODID:-//Coburn Free Library - ECPv6.15.20//NONSGML v1.0//EN
CALSCALE:GREGORIAN
METHOD:PUBLISH
X-ORIGINAL-URL:https://coburnfreelibrary.org
X-WR-CALDESC:Events for Coburn Free Library
REFRESH-INTERVAL;VALUE=DURATION:PT1H
X-Robots-Tag:noindex
X-PUBLISHED-TTL:PT1H
BEGIN:VTIMEZONE
TZID:America/New_York
BEGIN:DAYLIGHT
TZOFFSETFROM:-0500
TZOFFSETTO:-0400
TZNAME:EDT
DTSTART:20240310T070000
END:DAYLIGHT
BEGIN:STANDARD
TZOFFSETFROM:-0400
TZOFFSETTO:-0500
TZNAME:EST
DTSTART:20241103T060000
END:STANDARD
BEGIN:DAYLIGHT
TZOFFSETFROM:-0500
TZOFFSETTO:-0400
TZNAME:EDT
DTSTART:20250309T070000
END:DAYLIGHT
BEGIN:STANDARD
TZOFFSETFROM:-0400
TZOFFSETTO:-0500
TZNAME:EST
DTSTART:20251102T060000
END:STANDARD
BEGIN:DAYLIGHT
TZOFFSETFROM:-0500
TZOFFSETTO:-0400
TZNAME:EDT
DTSTART:20260308T070000
END:DAYLIGHT
BEGIN:STANDARD
TZOFFSETFROM:-0400
TZOFFSETTO:-0500
TZNAME:EST
DTSTART:20261101T060000
END:STANDARD
END:VTIMEZONE
BEGIN:VEVENT
DTSTART;TZID=America/New_York:20250718T100000
DTEND;TZID=America/New_York:20250718T110000
DTSTAMP:20260420T034943
CREATED:20250624T190604Z
LAST-MODIFIED:20250624T190604Z
UID:10002749-1752832800-1752836400@coburnfreelibrary.org
SUMMARY:The Great and Powerful Dave!
DESCRIPTION:He’s back! Dave Moreland\, the Great and Powerful Dave\, presents a high-energy 45-minute show filled with magic\, comedy\, puppets\, and audience participation. Several of his routines feature volunteers from the audience (maybe one of them will be you!) and\, at the end of the show\, Dave teaches everyone a magic trick they can perform with things from around the house. Join us Friday July 18th\, 2025 at 10am for this amazing magical performance! Registration is not required but appreciated. 
URL:https://coburnfreelibrary.org/event/the-great-and-powerful-dave/
CATEGORIES:Summer Reading
ATTACH;FMTTYPE=image/jpeg:https://coburnfreelibrary.org/wp-content/uploads/2025/06/SRP-25-Banners-2.jpg
END:VEVENT
BEGIN:VEVENT
DTSTART;TZID=America/New_York:20250718T130000
DTEND;TZID=America/New_York:20250718T150000
DTSTAMP:20260420T034943
CREATED:20250531T155412Z
LAST-MODIFIED:20251230T223907Z
UID:10002708-1752843600-1752850800@coburnfreelibrary.org
SUMMARY:Mahjong
DESCRIPTION:Join us every Friday 1pm to 3pm in the Hilda Grimes room to play Mahjong a tile-based game that was developed in the 19th century in China and has spread throughout the world since the early 20th century. All skill levels are welcome!
URL:https://coburnfreelibrary.org/event/mahjong/2025-07-18/
END:VEVENT
END:VCALENDAR