BEGIN:VCALENDAR
VERSION:2.0
PRODID:-//Coburn Free Library - ECPv6.15.20//NONSGML v1.0//EN
CALSCALE:GREGORIAN
METHOD:PUBLISH
X-WR-CALNAME:Coburn Free Library
X-ORIGINAL-URL:https://coburnfreelibrary.org
X-WR-CALDESC:Events for Coburn Free Library
REFRESH-INTERVAL;VALUE=DURATION:PT1H
X-Robots-Tag:noindex
X-PUBLISHED-TTL:PT1H
BEGIN:VTIMEZONE
TZID:America/New_York
BEGIN:DAYLIGHT
TZOFFSETFROM:-0500
TZOFFSETTO:-0400
TZNAME:EDT
DTSTART:20240310T070000
END:DAYLIGHT
BEGIN:STANDARD
TZOFFSETFROM:-0400
TZOFFSETTO:-0500
TZNAME:EST
DTSTART:20241103T060000
END:STANDARD
BEGIN:DAYLIGHT
TZOFFSETFROM:-0500
TZOFFSETTO:-0400
TZNAME:EDT
DTSTART:20250309T070000
END:DAYLIGHT
BEGIN:STANDARD
TZOFFSETFROM:-0400
TZOFFSETTO:-0500
TZNAME:EST
DTSTART:20251102T060000
END:STANDARD
BEGIN:DAYLIGHT
TZOFFSETFROM:-0500
TZOFFSETTO:-0400
TZNAME:EDT
DTSTART:20260308T070000
END:DAYLIGHT
BEGIN:STANDARD
TZOFFSETFROM:-0400
TZOFFSETTO:-0500
TZNAME:EST
DTSTART:20261101T060000
END:STANDARD
END:VTIMEZONE
BEGIN:VEVENT
DTSTART;VALUE=DATE:20250619
DTEND;VALUE=DATE:20250620
DTSTAMP:20260421T113416
CREATED:20250531T160643Z
LAST-MODIFIED:20250531T160643Z
UID:10002736-1750291200-1750377599@coburnfreelibrary.org
SUMMARY:Closed
DESCRIPTION:The library is closed on June 19th\, 2025 for Juneteenth. The Library will reopen June 20th\, 2025 at 10am for regular hours.
URL:https://coburnfreelibrary.org/event/closed-5/
END:VEVENT
BEGIN:VEVENT
DTSTART;TZID=America/New_York:20250619T100000
DTEND;TZID=America/New_York:20250619T110000
DTSTAMP:20260421T113416
CREATED:20241007T161323Z
LAST-MODIFIED:20260408T162226Z
UID:10002782-1750327200-1750330800@coburnfreelibrary.org
SUMMARY:Board of Trustees Meeting- Open Meeting
DESCRIPTION:The Board of Trustees of the Coburn Free Library meets upstairs in the Eva Thomas room.  Please enter through the rear entrance of the library and take the elevator to the 2nd floor.   Regularly scheduled meetings are on the third Thursday of each month at 10am.  Please register if you plan to attend so we have enough handouts.
URL:https://coburnfreelibrary.org/event/board-of-trustees-meeting-open-meeting/2025-06-19/
END:VEVENT
END:VCALENDAR